BEGIN:VCALENDAR
VERSION:2.0
PRODID:-//Grove Parish Council//Meeting Calendar//EN
CALSCALE:GREGORIAN
METHOD:PUBLISH
BEGIN:VEVENT
UID:72389-20260310@grove-oxon-pc.gov.uk
DTSTAMP:20260422T083142Z
DTSTART;VALUE=DATE:20260310
DTEND;VALUE=DATE:20260311
SUMMARY:Leisure and recreation committee &#8211\\; 10 March 2026
DESCRIPTION:Leisure and Recreation Committee Meeting\nView details: https://grove-oxon-pc.gov.uk/meetings/leisure-and-recreation-committee-10-march-2026/
URL:https://grove-oxon-pc.gov.uk/meetings/leisure-and-recreation-committee-10-march-2026/
END:VEVENT
END:VCALENDAR
