BEGIN:VCALENDAR
VERSION:2.0
PRODID:-//Grove Parish Council//Meeting Calendar//EN
CALSCALE:GREGORIAN
METHOD:PUBLISH
BEGIN:VEVENT
UID:72380-20251104@grove-oxon-pc.gov.uk
DTSTAMP:20260422T152547Z
DTSTART;VALUE=DATE:20251104
DTEND;VALUE=DATE:20251105
SUMMARY:Environmental Services and Planning committee &#8211\\; 4 November 2025
DESCRIPTION:Environmental Services and Planning Committee Meeting\nView details: https://grove-oxon-pc.gov.uk/meetings/environmental-services-and-planning-committee-4-november-2025/
URL:https://grove-oxon-pc.gov.uk/meetings/environmental-services-and-planning-committee-4-november-2025/
END:VEVENT
END:VCALENDAR
