BEGIN:VCALENDAR
VERSION:2.0
PRODID:-//Grove Parish Council//Meeting Calendar//EN
CALSCALE:GREGORIAN
METHOD:PUBLISH
BEGIN:VEVENT
UID:72376-20250909@grove-oxon-pc.gov.uk
DTSTAMP:20260422T134915Z
DTSTART;VALUE=DATE:20250909
DTEND;VALUE=DATE:20250910
SUMMARY:Full Council meeting &#8211\\; 9 September 2025
DESCRIPTION:Full Council Meeting\nView details: https://grove-oxon-pc.gov.uk/meetings/full-council-meeting-9-september-2025/
URL:https://grove-oxon-pc.gov.uk/meetings/full-council-meeting-9-september-2025/
END:VEVENT
END:VCALENDAR
