BEGIN:VCALENDAR
VERSION:2.0
PRODID:-//Grove Parish Council//Meeting Calendar//EN
CALSCALE:GREGORIAN
METHOD:PUBLISH
BEGIN:VEVENT
UID:72375-20250812@grove-oxon-pc.gov.uk
DTSTAMP:20260422T133704Z
DTSTART;VALUE=DATE:20250812
DTEND;VALUE=DATE:20250813
SUMMARY:Environmental Services and Planning committee &#8211\\; 12 August 2025
DESCRIPTION:Environmental Services and Planning Committee Meeting\nView details: https://grove-oxon-pc.gov.uk/meetings/environmental-services-and-planning-committee-12-august-2025/
URL:https://grove-oxon-pc.gov.uk/meetings/environmental-services-and-planning-committee-12-august-2025/
END:VEVENT
END:VCALENDAR
