BEGIN:VCALENDAR
VERSION:2.0
PRODID:-//Grove Parish Council//Meeting Calendar//EN
CALSCALE:GREGORIAN
METHOD:PUBLISH
BEGIN:VEVENT
UID:72346-20240426@grove-oxon-pc.gov.uk
DTSTAMP:20260422T133704Z
DTSTART;VALUE=DATE:20240426
DTEND;VALUE=DATE:20240427
SUMMARY:Annual Parish Meeting &#8211\\; 26 April 2024
DESCRIPTION:Annual Parish Meeting\nView details: https://grove-oxon-pc.gov.uk/meetings/annual-parish-meeting/
URL:https://grove-oxon-pc.gov.uk/meetings/annual-parish-meeting/
END:VEVENT
END:VCALENDAR
