BEGIN:VCALENDAR
VERSION:2.0
PRODID:-//Grove Parish Council//Meeting Calendar//EN
CALSCALE:GREGORIAN
METHOD:PUBLISH
BEGIN:VEVENT
UID:72295-20250520@grove-oxon-pc.gov.uk
DTSTAMP:20260422T152256Z
DTSTART;VALUE=DATE:20250520
DTEND;VALUE=DATE:20250521
SUMMARY:Environmental Services and Planning &#8211\\; 20 May 2025
DESCRIPTION:Environmental Services and Planning Committee Meeting\nView details: https://grove-oxon-pc.gov.uk/meetings/environmental-services-and-planning-20-may-2025/
URL:https://grove-oxon-pc.gov.uk/meetings/environmental-services-and-planning-20-may-2025/
END:VEVENT
END:VCALENDAR
