BEGIN:VCALENDAR
VERSION:2.0
PRODID:-//Grove Parish Council//Meeting Calendar//EN
CALSCALE:GREGORIAN
METHOD:PUBLISH
BEGIN:VEVENT
UID:70463-20241203@grove-oxon-pc.gov.uk
DTSTAMP:20260421T145241Z
DTSTART;VALUE=DATE:20241203
DTEND;VALUE=DATE:20241204
SUMMARY:Full Council &#8211\\; 3 December 2024
DESCRIPTION:Full Council Meeting\nView details: https://grove-oxon-pc.gov.uk/meetings/full-council-3-december-2024/
URL:https://grove-oxon-pc.gov.uk/meetings/full-council-3-december-2024/
END:VEVENT
END:VCALENDAR
